BEGIN:VCALENDAR
VERSION:2.0
PRODID:-//Association albassar - ECPv6.15.17.1//NONSGML v1.0//EN
CALSCALE:GREGORIAN
METHOD:PUBLISH
X-WR-CALNAME:Association albassar
X-ORIGINAL-URL:https://albassar.ma
X-WR-CALDESC:Évènements pour Association albassar
REFRESH-INTERVAL;VALUE=DURATION:PT1H
X-Robots-Tag:noindex
X-PUBLISHED-TTL:PT1H
BEGIN:VTIMEZONE
TZID:UTC
BEGIN:STANDARD
TZOFFSETFROM:+0000
TZOFFSETTO:+0000
TZNAME:UTC
DTSTART:20250101T000000
END:STANDARD
END:VTIMEZONE
BEGIN:VEVENT
DTSTART;TZID=UTC:20260330T080000
DTEND;TZID=UTC:20260330T170000
DTSTAMP:20260424T093653
CREATED:20260330T175947Z
LAST-MODIFIED:20260330T175947Z
UID:3253-1774857600-1774890000@albassar.ma
SUMMARY:Congrès National de la SAMIR
DESCRIPTION:
URL:https://albassar.ma/event/congres-national-de-la-samir/
CATEGORIES:Medicine
ATTACH;FMTTYPE=image/jpeg:https://albassar.ma/storage/2024/03/WhatsApp-Image-2026-03-27-at-15.44.26.jpeg
END:VEVENT
END:VCALENDAR